BEGIN:VCALENDAR
VERSION:2.0
PRODID:-//Reiss Center on Law and Security - ECPv4.6.24.1//NONSGML v1.0//EN
CALSCALE:GREGORIAN
METHOD:PUBLISH
X-WR-CALNAME:Reiss Center on Law and Security
X-ORIGINAL-URL:https://www.lawandsecurity.org
X-WR-CALDESC:Events for Reiss Center on Law and Security
BEGIN:VEVENT
DTSTART;TZID=America/New_York:20181205T133000
DTEND;TZID=America/New_York:20181205T153000
DTSTAMP:20260422T170946
CREATED:20181206T001544Z
LAST-MODIFIED:20181219T212608Z
UID:4039-1544016600-1544023800@www.lawandsecurity.org
SUMMARY:The killing of Khashoggi and the future of U.S.-Saudi relations - An evening with Barnett Rubin
DESCRIPTION:  \n \n  \n \n  \nThe Reiss Center on Law and Security at New York University School of Law and The Century Foundation held a discussion on Wednesday\, December 5\, with Barnett Rubin. Drawing on his decades-long friendship with Saudi journalist Jamal Khashoggi\, and his longstanding engagement with Saudi Arabia\, he discussed the impact of the murder on Saudi stability and the future of U.S.-Saudi relations. The discussion was moderated by Michael Wahid Hanna. Professor Stephen Holmes provided introductory remarks. \nBarnett Rubin is Associate Director and Senior Fellow at the Center on International Cooperation (CIC)\, where he directs the Afghanistan Pakistan Regional Program. From April 2009 until October 2013\, Rubin was the Senior Adviser to the Special Representative for Afghanistan and Pakistan in the U.S. Department of State. Before joining CIC in 2000\, he was Director of the Center for Preventive Action\, and Director\, Peace and Conflict Studies\, at the Council on Foreign Relations in New York. \nMichael Wahid Hanna is a senior fellow at The Century Foundation. He is also a non-resident senior fellow at the Reiss Center on Law and Security at New York University School of Law. Hanna works on issues of international security\, international law\, and U.S. foreign policy in the Middle East and South Asia. \nStephen Holmes is a Faculty Director of the Reiss Center on Law and Security and Walter E. Meyer Professor of Law. Holmes’ research centers on the defense against transnational terrorism within the bounds of liberal constitutionalism\, emergency powers\, the disappointments of democracy and economic liberalization after communism\, and the history of European liberalism. \n  \nThis dinner is part of a series of salon-style discussions hosted by the Reiss Center on Law and Security and The Century Foundation\, focusing on pressing national security issues of the day. \n
URL:https://www.lawandsecurity.org/calendar/the-killing-of-khashoggi-and-the-future-of-u-s-saudi-relations-an-evening-with-barnett-rubin/
END:VEVENT
END:VCALENDAR