BEGIN:VCALENDAR
VERSION:2.0
PRODID:-//Reiss Center on Law and Security - ECPv4.6.24.1//NONSGML v1.0//EN
CALSCALE:GREGORIAN
METHOD:PUBLISH
X-WR-CALNAME:Reiss Center on Law and Security
X-ORIGINAL-URL:https://www.lawandsecurity.org
X-WR-CALDESC:Events for Reiss Center on Law and Security
BEGIN:VEVENT
DTSTART;TZID=America/New_York:20150526T050000
DTEND;TZID=America/New_York:20150527T110000
DTSTAMP:20260421T103750
CREATED:20161003T234936Z
LAST-MODIFIED:20170403T223414Z
UID:1378-1432616400-1432724400@www.lawandsecurity.org
SUMMARY:Symposium on Government Access to Data in the Cloud
DESCRIPTION:The Center on Law and Security and the Information Law Institute at\nNYU School of Law Present:\nSymposium on Government Access to Data in the Cloud \nMay 26 – 27\, 2015\nLipton Hall\, D’Agostino Hall\n108 West Third Street\n\nTo watch the video of the symposium\, please click here \nCLS and ILI are grateful to Microsoft Corporation for generous support for this symposium. \nThis Symposium\, hosted by the Information Law Institute and the Center on Law and Security\, will present cutting-edge research on domestic\, international and transnational legal approaches to regulating government access to data stored in the cloud. The symposium will bring legal scholars together with participants who bring law enforcement\, industry\, privacy advocacy and human rights perspectives to bear on the important and often contentious debate about this rapidly evolving issue. \nMay 26\, 2015\n8:30 a.m. – 9:00 a.m. Breakfast & Registration \n9:00 a.m. – 10:30 a.m. Panel 1: Searches vs. Subpoenas in the Digital Context  \n\nBryan Choi\, New York Law School\nDavid Gray\, University of Maryland\, Francis King Carey School of Law\nChristopher Slobogin\, Vanderbilt Law School\nKatherine Strandburg\, NYU School of Law\n\nModerator: \n\nJeramie Scott\, Electronic Privacy Information Center (EPIC)\n\n10:30 a.m. – 11:00 a.m. Break \n11:00 a.m. – 12:30 p.m. Panel 2: Data? Metadata? Third Party Data?  \n\nLaura Donohue\, Georgetown Law\nKiel Brennan-Marquez\, Information Society Project\, Yale Law School\nStephen Henderson\, University of Oklahoma\, College of Law\nSusan Freiwald\, University of San Francisco\, School of Law\nOlivier Sylvain\, Fordham Law School\n\nModerator: \n\nAndrew Selbst\, U.S. Court of Appeals\n\n12:30 p.m. – 1:30 p.m. Lunch \n1:30 p.m. – 3:00 p.m. Panel 3: On the Ground Perspectives on the Application of U.S. Surveillance Law to Data in the Cloud \n\nAlan Butler\, Electronic Privacy Information Center (EPIC)\nNathan Judish\, Department of Justice\nPatrick Toomey\, America Civil Liberties Union (ACLU)\nAndrew Schaffer\, NYU School of Law\n\nFacilitator: \n\nAndrew Weissmann\, Department of Justice\n\n3:00 p.m. – 3:30 p.m. Break\n\n3:30 p.m. – 5:00 p.m. Panel 4: Human Rights Issues in Transnational Data Access \n\nRyan Goodman\, NYU School of Law\nMichael Posner\, NYU Stern School of Business\nFaiza Patel\, Brennan Center for Justice\n\nFacilitator: \n\nZachary Goldman\, NYU School of Law\n\nMay 27\, 2015\n8:30 a.m. – 9:00 a.m. Breakfast & Registration\n\n9:00 a.m. – 10:30 a.m. Panel 1: Extraterritorial Application of U.S. Law to the Cloud \n\nJennifer Daskal\, American University Washington College of Law\nPeter Swire\, Georgia Tech\, Scheller College of Business\nAndrew Woods\, University of Kentucky\, College of Law\nMichael Farbiarz\, NYU School of Law\n\nModerator:  \n\nDaphna Renan\, Harvard Law School\n\n10:30 a.m. – 11 a.m. Break \n11:00 a.m. – 12:30 p.m. Panel 2: Transnational and Foreign Law Perspectives on Cloud Access \n\nJoris Van Hoboken\, NYU School of Law\nAhmed Ghappour\, UC Hastings College of Law\nIra Rubinstein\, NYU School of Law\nSamuel Rascoff\, NYU School of Law\n\nModerator: \n\nRichard Morgan\, NYU School of Law\n\n12:30 – 1:30 p.m. Lunch\n\n1:30 p.m. – 3:00 p.m. Panel 3: Perspectives on Transnational Data Access – Government\, Civil Society\, and Corporate Views \n\nNate Jones\, Microsoft\nJames Garland\, Covington & Burling\nMichael Price\, Brennan Center for Justice\nKate Westmoreland\, Center for Internet and Society\, Stanford Law School\nMick Stawasz\, Deputy Chief for Computer Crime\, Department of Justice\n\nFacilitator: \n\nJudith Germano\, NYU School of Law\n\n
URL:https://www.lawandsecurity.org/calendar/symposium-government-access-data-cloud/
LOCATION:D’Agostino Hall\, 108 West 3rd Street\, New York\, New York
ATTACH;FMTTYPE=image/png:https://www.lawandsecurity.org/wp-content/uploads/2016/10/govaccesscloud.png
END:VEVENT
END:VCALENDAR