BEGIN:VCALENDAR
VERSION:2.0
PRODID:-//Reiss Center on Law and Security - ECPv4.6.24.1//NONSGML v1.0//EN
CALSCALE:GREGORIAN
METHOD:PUBLISH
X-WR-CALNAME:Reiss Center on Law and Security
X-ORIGINAL-URL:https://www.lawandsecurity.org
X-WR-CALDESC:Events for Reiss Center on Law and Security
BEGIN:VEVENT
DTSTART;TZID=America/New_York:20240401T130000
DTEND;TZID=America/New_York:20240401T140000
DTSTAMP:20260421T213401
CREATED:20240425T174216Z
LAST-MODIFIED:20240503T144514Z
UID:14008-1711976400-1711980000@www.lawandsecurity.org
SUMMARY:Tom Joscelyn speaks with NYU Law students
DESCRIPTION: \nOn Monday\, April 1\, Reiss Center Non-Resident Senior Fellow Tom Joscelyn sat down with NYU Law students for an informal lunch talk covering a wide range of topics. Joscelyn discussed his work on the House January 6 Committee as a principal author of the Committee’s report; the ongoing threat and operations of groups who participated in January 6 such as the Proud Boys and Oath Keepers; the future stability of U.S. democratic institutions; and what to expect from a career as an intelligence and policy analyst. \n \n
URL:https://www.lawandsecurity.org/calendar/rcls-senior-fellow-tom-joscelyn-speaks-with-nyu-law-students/
ATTACH;FMTTYPE=image/png:https://www.lawandsecurity.org/wp-content/uploads/2023/04/Tom-Joscelyn-60-Minutes-headshot-1.png
END:VEVENT
END:VCALENDAR