BEGIN:VCALENDAR
VERSION:2.0
PRODID:-//Reiss Center on Law and Security - ECPv4.6.24.1//NONSGML v1.0//EN
CALSCALE:GREGORIAN
METHOD:PUBLISH
X-WR-CALNAME:Reiss Center on Law and Security
X-ORIGINAL-URL:https://www.lawandsecurity.org
X-WR-CALDESC:Events for Reiss Center on Law and Security
BEGIN:VEVENT
DTSTART;VALUE=DATE:20131216
DTEND;VALUE=DATE:20131218
DTSTAMP:20260421T180617
CREATED:20161005T224422Z
LAST-MODIFIED:20170412T205952Z
UID:1449-1387220400-1387306799@www.lawandsecurity.org
SUMMARY:Private Sanctions Roundtable with State Dept. Deputy Assistant Secretary Peter Harrell
DESCRIPTION:The Center hosted a roundtable with Peter Harrell\, Deputy Assistant Secretary of State for Sanctions and Threat Finance on Wednesday\, December 17th.  The discussion revolved around recent foreign policy developments and their impact on the global sanctions framework\, focused particularly on how these issues affect the private sector. \n
URL:https://www.lawandsecurity.org/calendar/private-sanctions-roundtable-state-dept-deputy-assistant-secretary-peter-harrell/
END:VEVENT
END:VCALENDAR