BEGIN:VCALENDAR
VERSION:2.0
PRODID:-//Reiss Center on Law and Security - ECPv4.6.24.1//NONSGML v1.0//EN
CALSCALE:GREGORIAN
METHOD:PUBLISH
X-WR-CALNAME:Reiss Center on Law and Security
X-ORIGINAL-URL:https://www.lawandsecurity.org
X-WR-CALDESC:Events for Reiss Center on Law and Security
BEGIN:VEVENT
DTSTART;TZID=America/New_York:20121008T040000
DTEND;TZID=America/New_York:20121008T054500
DTSTAMP:20260420T163753
CREATED:20161007T200648Z
LAST-MODIFIED:20170419T222527Z
UID:1515-1349668800-1349675100@www.lawandsecurity.org
SUMMARY:Policing Legitimacy: International Terrorism\, Illegal Immigration\, and Cyber Crime
DESCRIPTION:On October 8\, 2012 the Center on Law and Security welcomed former Commissioner of the Metropolitan Police of the United Kingdom\, Lord Ian Blair for a discussion on “Policing Legitimacy: International Terrorism\, Illegal Immigration\, and Cyber Crime.”  Lord Blair discussed the ways that new threats and challenges\, including stop and frisk programs\, counterterrorism\, cyber-crime\, illegal immigration and mass demonstrations\, are putting pressure on police forces in major cities around the world. \nThe Center on Law and Security presents Sir Ian Blair \nFormer Commissioner of the Metropolitan Police\, United Kingdom \n“Policing Legitimacy: International Terrorism\, Illegal Immigration\, and Cyber Crime”  \nMonday\, October 8\, 2012\n8:30 a.m.\nNYU School of Law\nSnow Dining Room\, Vanderbilt Hall\n40 Washington Square South\nNew York\, NY \n \nIan Blair served as the 24th Commissioner of the Metropolitan Police from 2005 until the end of 2008. He was a police officer for more than 34 years and held a number of senior positions\, including Chief Constable of Surrey Police from 1998 to 2000 and the Deputy Commissioner of the Met from 2000 to 2005.  Since retiring in December 2008\, he has become a faculty member in the schools of criminology at both Oxford and Cambridge Universities\, and is the co-director of an ongoing program of training for senior police officers in India. \n  \n  \n  \n
URL:https://www.lawandsecurity.org/calendar/policing-legitimacy-international-terrorism-illegal-immigration-cyber-crime/
LOCATION:Snow Dining Room\, Vanderbilt Hall - 40 Washington Square South\, New York\, New York
END:VEVENT
END:VCALENDAR