BEGIN:VCALENDAR
VERSION:2.0
PRODID:-//Reiss Center on Law and Security - ECPv4.6.24.1//NONSGML v1.0//EN
CALSCALE:GREGORIAN
METHOD:PUBLISH
X-WR-CALNAME:Reiss Center on Law and Security
X-ORIGINAL-URL:https://www.lawandsecurity.org
X-WR-CALDESC:Events for Reiss Center on Law and Security
BEGIN:VEVENT
DTSTART;TZID=America/New_York:20181022T043000
DTEND;TZID=America/New_York:20181022T120000
DTSTAMP:20260422T184640
CREATED:20181002T201732Z
LAST-MODIFIED:20190425T153401Z
UID:3290-1540182600-1540209600@www.lawandsecurity.org
SUMMARY:National Security and Shifting Geopolitics: Challenges at Home and Abroad
DESCRIPTION:Monday\, October 22\, 2018\n8:30 AM – 4:00 PM  \nNYU School of Law\nGreenberg Lounge | Vanderbilt Hall\n40 Washington Square South \n  \nThank you for joining us at our fall national security conference. The conference\, National Security and Shifting Geopolitics: Challenges at Home and Abroad\, featured leading policymakers\, scholars and journalists to address key national security challenges of our era. The full agenda and videos of the event are included below. A recap and photo gallery are also available online. \n\n\nProgram of Events\n* * *\nMonday\, October 22\, 2018\n Greenberg Lounge\, Vanderbilt Hall\, 40 Washington Sq. South\n  \n8:30 a.m. – 9:00 a.m.:          Registration and Continental Breakfast \n9:00 a.m. – 9:15 a.m.:          Welcome Remarks \nTrevor Morrison\, Dean\, Eric M. and Laurie B. Roth Professor of Law\, Faculty Director\, Reiss Center on Law and Security\, NYU School of Law \n9:15 a.m. – 10:45 a.m.:        Seismic Shifts? Changing Priorities and Competing Visions for a Rules-Based Order \n  \n\n  \nA conversation with senior thinkers and practitioners\, exploring fundamental questions of the global architecture from a national security perspective—including how key global players are engaging in or re-shaping international institutions and the rules of global engagement. \nParticipants: \nJohn Bellinger\, Partner\, Arnold & Porter; former Legal Adviser to the Department of State\, Senior Associate Counsel to President Bush and Legal Adviser to the National Security Council \nAvril Haines\, Senior Research Scholar\, Columbia University and Lecturer in Law\, Columbia University Law School; former Deputy National Security Advisor to President Obama\, Deputy Director of the Central Intelligence Agency \nJake Sullivan\, Martin R. Flug Visiting Lecturer in Law at Yale Law School; former National Security Adviser to Vice President Biden\, Director of Policy Planning at U.S. Department of State\, Deputy Chief of Staff to Secretary of State Clinton \nModerator: \nTrevor Morrison\, Dean\, Eric M. and Laurie B. Roth Professor of Law\, Faculty Director\, Reiss Center on Law and Security\, NYU School of Law \n10:45 a.m. – 11:00 a.m.:       Coffee Break \n11:00 a.m. – 12:30 p.m.:      National Security and the Midterm Elections \n  \n\n \n  \nA discussion with Hill staffers and experts on Congress’s national security agenda following the 2018 midterm elections\, focusing on inter-branch dynamics\, institutional trends\, and key global issues.  \nParticipants: \nRebecca Ingber\, Associate Professor\, Boston University School of Law; Non-Resident Senior Fellow\, Reiss Center on Law and Security \nDavid Kinzler\, Legislative Director\, Senator Bob Corker\, Chairman\, Senate Foreign Relations Committee \nLuke Murry\, National Security Advisor\, House Majority Leader Kevin McCarthy \nMargaret Taylor\, Former Democratic Chief Counsel\, Senate Foreign Relations Committee \nModerator: \nLara Flint\, Associate Director of the Governance Program\, Democracy Fund \n12:30 p.m. – 1:15 p.m.:         Lunch\, Greenberg Lounge (Lunch will be provided)  \n1:15 p.m. – 2:45 p.m.:           National Security Journalism in an Age of Disinformation  \n  \n\n  \nJournalists and legal experts will explore major challenges in national security journalism today\, including the legal\, professional and ethical dilemmas posed by disinformation campaigns and major leaks or hacks of information facilitated by foreign governments. Co-sponsored by Just Security. \nParticipants: \nNatasha Bertrand\, Staff Writer\, National Security and Politics\, The Atlantic \nCarol Leonnig\, Investigative Reporter\, Washington Post \nDavid McCraw\, Vice President and Deputy General Counsel\, The New York Times Company \nDavid Pozen\, Professor of Law\, Columbia Law School\, Visiting Professor of Law\, NYU School of Law (Spring 2019) \nModerator: \nChris Hayes\, MSNBC Host\, All In With Chris Hayes \n2:45 p.m. – 3:00 p.m.:           Coffee Break \n3:00 p.m. – 4:00 p.m.:           Conclusions and Looking Ahead  \n  \n\n  \nParticipants: \nTess Bridgeman\, Senior Fellow and Visiting Scholar\, Reiss Center on Law and Security; former Special Assistant to the President and Deputy Legal Advisor to the National Security Council \nRyan Goodman\, Anne and Joel Ehrenkranz Professor of Law\, NYU School of Law; Founding Co-Editor-in-Chief\, Just Security\, Faculty Director\, Reiss Center on Law and Security \nStephen Holmes\, Walter E. Meyer Professor of Law\, NYU School of Law\, Faculty Director\, Reiss Center on Law and Security \nLisa Monaco\, Distinguished Senior Fellow\, Reiss Center on Law and Security and Adjunct Professor of Law\, NYU School of Law; former Homeland Security and Counterterrorism Advisor to President Barack Obama \nModerator: \nDavid Golove\, Hiller Family Foundation Professor of Law\, NYU School of Law\, Faculty Director\, Reiss Center on Law and Security \n\n\n
URL:https://www.lawandsecurity.org/calendar/national-security-shifting-geopolitics-challenges-home-abroad/
ATTACH;FMTTYPE=image/jpeg:https://www.lawandsecurity.org/wp-content/uploads/2018/10/CLS_NationalSecuritySpot.jpg
END:VEVENT
END:VCALENDAR