BEGIN:VCALENDAR
VERSION:2.0
PRODID:-//Reiss Center on Law and Security - ECPv4.6.24.1//NONSGML v1.0//EN
CALSCALE:GREGORIAN
METHOD:PUBLISH
X-WR-CALNAME:Reiss Center on Law and Security
X-ORIGINAL-URL:https://www.lawandsecurity.org
X-WR-CALDESC:Events for Reiss Center on Law and Security
BEGIN:VEVENT
DTSTART;TZID=America/New_York:20110119T130000
DTEND;TZID=America/New_York:20110119T143000
DTSTAMP:20260420T054722
CREATED:20161019T224133Z
LAST-MODIFIED:20161019T224133Z
UID:1614-1295442000-1295447400@www.lawandsecurity.org
SUMMARY:The Longest War: The Enduring Conflict between America and Al-Qaeda
DESCRIPTION:Featuring Peter Bergen\, CNN’s National Security Analyst and fellow\, Center on Law and Security \n
URL:https://www.lawandsecurity.org/calendar/longest-war-enduring-conflict-america-al-qaeda/
LOCATION:Lipton Hall\, 108 West 3rd Street\, New York\, New York
END:VEVENT
END:VCALENDAR