BEGIN:VCALENDAR
VERSION:2.0
PRODID:-//Reiss Center on Law and Security - ECPv4.6.24.1//NONSGML v1.0//EN
CALSCALE:GREGORIAN
METHOD:PUBLISH
X-WR-CALNAME:Reiss Center on Law and Security
X-ORIGINAL-URL:https://www.lawandsecurity.org
X-WR-CALDESC:Events for Reiss Center on Law and Security
BEGIN:VEVENT
DTSTART;TZID=America/New_York:20131119T034500
DTEND;TZID=America/New_York:20131119T110000
DTSTAMP:20260421T151015
CREATED:20161005T225144Z
LAST-MODIFIED:20161005T225621Z
UID:1454-1384832700-1384858800@www.lawandsecurity.org
SUMMARY:Law and Strategy in an Era of Evolving Threats
DESCRIPTION:The Center’s Fall 2013 CLE Conference Law and Strategy in an Era of Evolving Threats will explore the evolving relationship between national security law and national security strategy\, and will include discussions by current and former judges from the Supreme Courts of Canada\, Israel\, and the U.K.\, as well as the D.C. Circuit Court of Appeals\, along with many others.  5.5 New York CLE Credits Available. \nWatch here \n  \nAGENDA: \n8:30 a.m.:  Registration and Continental Breakfast \n8:45 a.m.:  Welcome Remarks  \n\nDean Trevor Morrison\, NYU School of Law\n\n9:00 a.m.:  Opening Keynote \n\nJohn C.(Chris) Inglis\, Deputy Director\, National Security Agency\n\n9:40 a.m.:  Panel 1:  The Role of the Courts in Intelligence and National Security  \n\nJustice Rosalie Abella\, Supreme Court of Canada\nPresident (ret.) Dorit Beinisch\, Supreme Court of Israel\, Weinstein Family Distinguished Fellow\nJudge Brett Kavanaugh\, D.C. Circuit Court of Appeals\nThe Right Hon the Lord Kerr of Tonaghmore\, Supreme Court of the U.K.\nProfessor Samuel Rascoff\, NYU School of Law\n\n11:15 a.m.:  Coffee Break \n11:30 a.m.:  Panel 2:  Law and Strategy in the Executive Branch \n\nJeremy Bash\, Former Chief of Staff to the Director of the Central Intelligence Agency and Secretary of Defense; Beacon Global Strategies\nRobert Bauer\, Former White House Counsel; Perkins Coie/NYU School of Law\nMichael Leiter\, Former Director\, National Counterterrorism Center; Palantir Technologies\nAndrew Weissmann\, Former General Counsel to the FBI; NYU School of Law\nProfessor Stephen Holmes\, NYU School of Law\n\n1:00 p.m.:  Lunch Break \n1:30 p.m.:  Lunchtime Keynote \n\nLisa Monaco\, Assistant to the President for Homeland Security and Counterterrorism\n\n2:15 p.m.:  Panel 3:  National Security Law and the Press \n\nDaniel Klaidman\, Newsweek/Daily Beast\nMark Mazzetti\,  The New York Times\nEllen Nakashima\, The Washington Post\nBenjamin Wittes\, Brookings Institution/Lawfare\nProfessor Richard Pildes\, NYU School of Law\n\n4:00 p.m.:  CLE Sign-Out and Reception \n
URL:https://www.lawandsecurity.org/calendar/law-strategy-era-evolving-threats/
LOCATION:Greenberg Lounge\, 40 Washington Square South\, New York\, NY\, 10012\, United States
ATTACH;FMTTYPE=image/png:https://www.lawandsecurity.org/wp-content/uploads/2016/10/lawstratevolvethreat.png
END:VEVENT
END:VCALENDAR