BEGIN:VCALENDAR
VERSION:2.0
PRODID:-//Reiss Center on Law and Security - ECPv4.6.24.1//NONSGML v1.0//EN
CALSCALE:GREGORIAN
METHOD:PUBLISH
X-WR-CALNAME:Reiss Center on Law and Security
X-ORIGINAL-URL:https://www.lawandsecurity.org
X-WR-CALDESC:Events for Reiss Center on Law and Security
BEGIN:VEVENT
DTSTART;TZID=America/New_York:20150413T073000
DTEND;TZID=America/New_York:20150413T090000
DTSTAMP:20260421T120339
CREATED:20161003T235437Z
LAST-MODIFIED:20161003T235437Z
UID:1381-1428910200-1428915600@www.lawandsecurity.org
SUMMARY:The Future of Violence: Robots and Germs\, Hackers and Drones—Confronting A New Age of Threat
DESCRIPTION:Book Talk with Benjamin Wittes and Gabriella Blum:\nThe Future of Violence: Robots and Germs\, Hackers and Drones—Confronting A New Age of Threat  \nMonday\, April 13\, 2015\, 11:30 a.m. \nVanderbilt Hall\, Snow Dining Room\, 40 Washington Square South \n
URL:https://www.lawandsecurity.org/calendar/future-violence-robots-germs-hackers-drones-confronting-new-age-threat/
LOCATION:Snow Dining Room\, Vanderbilt Hall - 40 Washington Square South\, New York\, New York
ATTACH;FMTTYPE=image/png:https://www.lawandsecurity.org/wp-content/uploads/2016/10/FutVio.png
END:VEVENT
END:VCALENDAR