BEGIN:VCALENDAR
VERSION:2.0
PRODID:-//Reiss Center on Law and Security - ECPv4.6.24.1//NONSGML v1.0//EN
CALSCALE:GREGORIAN
METHOD:PUBLISH
X-WR-CALNAME:Reiss Center on Law and Security
X-ORIGINAL-URL:https://www.lawandsecurity.org
X-WR-CALDESC:Events for Reiss Center on Law and Security
BEGIN:VEVENT
DTSTART;TZID=America/New_York:20151117T130000
DTEND;TZID=America/New_York:20151117T143000
DTSTAMP:20260421T172515
CREATED:20161003T233415Z
LAST-MODIFIED:20170412T224303Z
UID:1366-1447765200-1447770600@www.lawandsecurity.org
SUMMARY:The Fragmentation of the Middle East: Syria\, Yemen\, and the New Political Landscape
DESCRIPTION:The Center on Law and Security presents:\nThe Fragmentation of the Middle East: Syria\, Yemen\, and the New Political Landscape \nTo watch the video of the event\, please click here \nNYU Law School\nD’Agostino Hall\, Lipton Hall\n108 West 3rd Street\nTuesday\, November 17\, 2015\n6:00-7:30 p.m.  \nFeaturing: \n\nMichael Wahid Hanna\, Adjunct Senior Fellow at the Center on Law and Security\, NYU School of Law; Senior Fellow\, The Century Foundation\nGregory Johnsen\, Author\, The Last Refuge: Yemen\, al-Qaeda\, and America’s War in Arabia\nMarina Ottaway\, Senior Scholar\, Woodrow Wilson International Center for Scholars\nJessica Ashooh\, Deputy Director of the Middle East Strategy Task Force\, Rafik Hariri Center for the Middle East\, Atlantic Council\nSteven Simon\, Visiting Fellow\, Dartmouth College\n\nAbout the Event: \nThe conversation will focus on how to react when states fragment\, and the United States and the international community do not have a governmental counterpart to deal with in order to address questions of politics\, strategy\, or humanitarian affairs.  This trend can be seen most clearly in Syria and Yemen (and Libya)\, but we may face a version of this problem in the not too distant future in Afghanistan and elsewhere as well. \n
URL:https://www.lawandsecurity.org/calendar/fragmentation-middle-east-syria-yemen-new-political-landscape/
LOCATION:D’Agostino Hall\, 108 West 3rd Street\, New York\, New York
ATTACH;FMTTYPE=image/png:https://www.lawandsecurity.org/wp-content/uploads/2016/10/FragME.png
END:VEVENT
END:VCALENDAR