BEGIN:VCALENDAR
VERSION:2.0
PRODID:-//Reiss Center on Law and Security - ECPv4.6.24.1//NONSGML v1.0//EN
CALSCALE:GREGORIAN
METHOD:PUBLISH
X-WR-CALNAME:Reiss Center on Law and Security
X-ORIGINAL-URL:https://www.lawandsecurity.org
X-WR-CALDESC:Events for Reiss Center on Law and Security
BEGIN:VEVENT
DTSTART;TZID=America/New_York:20150402T050000
DTEND;TZID=America/New_York:20150402T193000
DTSTAMP:20260421T132639
CREATED:20161003T235954Z
LAST-MODIFIED:20170412T225432Z
UID:1386-1427950800-1428003000@www.lawandsecurity.org
SUMMARY:Cyber Insurance and Corporate Governance: Facing New Threats
DESCRIPTION:The Center on Law and Security and the Sloan Cyber Security Lecture Series \nThursday\, April 2\, 2015 at 9:00am – 11:30am \nAttend in person or watch online. Admission is free. \n1 CLE New York credit awarded for onsite attendance. This transitional program is approved for both newly admitted and experienced attorneys in New York. \nCyber Insurance and Corporate Governance: Facing New Threats \nThursday\, April 2nd\, 2015\, 9:00am – 11:30am\nNYU Polytechnic School of Engineering\, Pfizer Auditorium\n5 MetroTech Center\nBrooklyn\, NY \nDistinguished Lecturer: \n\nPeter D. Hancock\, President and CEO of AIG\n\nDistinguished Panelists: \n\nJoseph V. DeMarco\, Partner\, DeVore & DeMarco LLP NYC\nTim Finan\, Senior Cybersecurity Strategist and Counsel\, US Department of Homeland Security\nCameron F. Kerry\, Ann R. and Andrew H. Tisch Distinguished Visiting Fellow\, Brooking Institution\nRandal S. Milch\, Executive Vice President\, Strategic Policy Advisor\, Verizon\n\nIntroduction: \n\nZachary K. Goldman\, Executive Director\, Center on Law and Security\, NYU School of Law\n\nOpening Remarks: \n\nGus Coldebella\, Partner\, Fish & Richardson\n\nModerator: \n\nJudith H. Germano\, Senior Fellow\, Center on Law and Security and Adjunct Professor of Law\, NYU School of Law\n\nWhile fears of “Cyber Pearl Harbors” dominate headlines\, many of the most costly cyber attacks are better characterized as acts of theft\, jeopardizing some of the most valuable assets US companies possess. With intrusions targeting vulnerable intellectual property and the personal information of millions\, US corporations have struggled to build adequate corporate governance frameworks to manage risk in the face of cyber breaches. While insurance generally plays a critical role in corporate risk management\, serious obstacles stand in the way of creating a robust cyber insurance market. Today\, company executives confront many difficult questions: Should corporations collaborate closely with government to investigate cyber incidents? How should companies navigate inconsistent demands of proliferating cyber security regulators and civil litigants? How can we manage the rapidly expanding liability landscape successfully? In this sixth Sloan Cyber Security Lecture\, Peter Hancock\, President and CEO of AIG\, together with a panel of cybersecurity experts\, explore how we might improve our ability to protect against the mounting losses from breaches. Is there a role for the insurance market in helping companies create a sophisticated cybersecurity risk management framework? What are the most intractable obstacles in the development of robust cyber insurance options? And how might the insurance industry collaborate with other risk management options to form a comprehensive approach to cyber threats? \nLearn more about this event at engineering.nyu.edu/sloanseries. \nThis event offers 1 CLE New York credit for onsite attendance. This transitional program will be approved for both newly admitted and experienced attorneys in New York. \nParticipate in the conversation using #ReducingCyberRisk. Follow @CyberLecture to keep up-to-date on this event. \nWe look forward to having you in the audience. Please feel free to share this event with others who may be interested in attending. \nCLE material: \n\nCLS After the Breach Final.pdf\nHartford Cas Ins Co v Corcino And Associates.pdf\nJuly 2014 Insurance Industry Working Session_1.pdf\nZurich Am v Sony entry of transcript of 2-21-2014.pdf\n\nThis event is being co-sponsored with the generous support of \nAIG\, Verizon\, and DeVore & DeMarco LLP. \nIn Collaboration with:\nNYU Polytechnic School of Engineering \n
URL:https://www.lawandsecurity.org/calendar/cyber-insurance-corporate-governance-facing-new-threats/
LOCATION:Pfizer Auditorium\, 5 MetroTech Center\, Brooklyn\, New York
ATTACH;FMTTYPE=image/png:https://www.lawandsecurity.org/wp-content/uploads/2016/10/cybinsurcorgov.png
END:VEVENT
END:VCALENDAR