BEGIN:VCALENDAR
VERSION:2.0
PRODID:-//Reiss Center on Law and Security - ECPv4.6.24.1//NONSGML v1.0//EN
CALSCALE:GREGORIAN
METHOD:PUBLISH
X-WR-CALNAME:Reiss Center on Law and Security
X-ORIGINAL-URL:https://www.lawandsecurity.org
X-WR-CALDESC:Events for Reiss Center on Law and Security
BEGIN:VEVENT
DTSTART;TZID=America/New_York:20121211T030000
DTEND;TZID=America/New_York:20121211T040000
DTSTAMP:20260420T204441
CREATED:20161007T191510Z
LAST-MODIFIED:20161007T191510Z
UID:1498-1355194800-1355198400@www.lawandsecurity.org
SUMMARY:A Conversation with Author Daniel Klaidman
DESCRIPTION:On Tuesday December 11\, 2012 CLS hosted a conversation with Daniel Klaidman\, author of Kill or Capture: The War on Terror and the Soul of the Obama Presidency. Daniel Klaidman is a special correspondent for Newsweek and The Daily Beast who reports on terrorism and national security\, and discussed the Obama administration’s counter-terrorism policy with a specific focus on detention and targeting.  Klaidman shed important light on the ways in which national security policy decisions are considered and made. \n \n
URL:https://www.lawandsecurity.org/calendar/conversation-author-daniel-klaidman/
END:VEVENT
END:VCALENDAR