BEGIN:VCALENDAR
VERSION:2.0
PRODID:-//Reiss Center on Law and Security - ECPv4.6.24.1//NONSGML v1.0//EN
CALSCALE:GREGORIAN
METHOD:PUBLISH
X-WR-CALNAME:Reiss Center on Law and Security
X-ORIGINAL-URL:https://www.lawandsecurity.org
X-WR-CALDESC:Events for Reiss Center on Law and Security
BEGIN:VEVENT
DTSTART;TZID=America/New_York:20120912T143000
DTEND;TZID=America/New_York:20120912T160000
DTSTAMP:20260420T133216
CREATED:20161007T201153Z
LAST-MODIFIED:20170419T222752Z
UID:1520-1347460200-1347465600@www.lawandsecurity.org
SUMMARY:CLS Presents David S. Cohen\, Under Secretary of the Treasury For  Terrorism and Financial Intelligence
DESCRIPTION:\nWednesday\, September 12\, 2012\n6:30 – 8:00 p.m.\nNYU School of Law\nLipton Hall\, 108 W. 3rd Street\nNew York\, NY \nThe video of this event is available\, click here to watch. \nDavid Cohen was confirmed by the United States Senate to serve as Treasury’s Under Secretary for Terrorism and Financial Intelligence on June 30\, 2011. As Under Secretary for Terrorism and Financial Intelligence\, Cohen leads the Treasury Department’s policy\, enforcement\, regulatory\, and intelligence functions aimed at identifying and disrupting the lines of financial support to international terrorist organizations\, proliferators\, narcotics traffickers\, and other illicit actors posing a threat to our national security. He is also responsible for directing the Department’s efforts to combat money laundering and financial crimes. In this role\, Cohen serves as a member of the Obama Administration’s national security team in developing financial strategies to combat these wide ranging threats and protect the U.S. and international financial systems from abuse. \n\n  \n
URL:https://www.lawandsecurity.org/calendar/cls-presents-david-s-cohenunder-secretary-treasury-terrorism-financial-intelligence/
LOCATION:Lipton Hall\, 108 West 3rd Street\, New York\, New York
ATTACH;FMTTYPE=image/png:https://www.lawandsecurity.org/wp-content/uploads/2016/10/sectreasury.png
END:VEVENT
END:VCALENDAR