BEGIN:VCALENDAR
VERSION:2.0
PRODID:-//Reiss Center on Law and Security - ECPv4.6.24.1//NONSGML v1.0//EN
CALSCALE:GREGORIAN
METHOD:PUBLISH
X-WR-CALNAME:Reiss Center on Law and Security
X-ORIGINAL-URL:https://www.lawandsecurity.org
X-WR-CALDESC:Events for Reiss Center on Law and Security
BEGIN:VEVENT
DTSTART;VALUE=DATE:20131105
DTEND;VALUE=DATE:20131107
DTSTAMP:20260421T135111
CREATED:20161005T225716Z
LAST-MODIFIED:20181016T002334Z
UID:1458-1383678000-1383764399@www.lawandsecurity.org
SUMMARY:Reiss Center on Law and Security Book Discussion with Michael Allen
DESCRIPTION:Reiss Center on Law and Security was pleased to host Michael Allen\, former Director of the House Permanent Select Committee on Intelligence and author of the new book Blinking Red: Crisis and Compromise in American Intelligence After 9/11 on November 6\, 2013.   Michael Allen discussed some of the most important post-9/11 reforms to the intelligence community—reforms that paved the way for the system of intelligence collection about which we learned a great deal from revelations this past summer. \n
URL:https://www.lawandsecurity.org/calendar/center-law-security-book-discussion-michael-allen/
END:VEVENT
END:VCALENDAR