BEGIN:VCALENDAR
VERSION:2.0
PRODID:-//Reiss Center on Law and Security - ECPv4.6.24.1//NONSGML v1.0//EN
CALSCALE:GREGORIAN
METHOD:PUBLISH
X-WR-CALNAME:Reiss Center on Law and Security
X-ORIGINAL-URL:https://www.lawandsecurity.org
X-WR-CALDESC:Events for Reiss Center on Law and Security
BEGIN:VEVENT
DTSTART;TZID=America/New_York:20141201T120000
DTEND;TZID=America/New_York:20141201T133000
DTSTAMP:20260421T202059
CREATED:20161004T001616Z
LAST-MODIFIED:20161004T001616Z
UID:1403-1417435200-1417440600@www.lawandsecurity.org
SUMMARY:Book Talk: Dr. David Scharia and Pres. (ret.) Dorit Beinisch of the Supreme Court of Israel
DESCRIPTION:Book Talk: Dr. David Scharia and Pres. (ret.) Dorit Beinisch \nThe Center on Law and Security invites you to a book talk with Dr. David Scharia\, Counter Terrorism Executive Directorate (CTED)\, United Nations Security Council.*  The book Judicial Review of National Security provides an overview of judicial review of national security matters in Israel\, describing the various formal and informal ways in which the Supreme Court of Israel exercises oversight of national security matters.  The book illuminates both the actual and potential role of the courts in national security in Western Democracies. \nDr. Scharia will be introduced by President (ret.) Dorit Beinisch of the Supreme Court of Israel\, currently the Weinstein Family Distinguished Fellow at the Center on Law and Security at NYU School of Law. \nThe book discussion will take place on Monday\, December 1\, 2014\, at 5 p.m. in Snow Dining Room\, Vanderbilt Hall\, 40 Washington Square South. \n  \n*The views expressed here do not represent the views of the United Nations or any of its bodies. \n
URL:https://www.lawandsecurity.org/calendar/book-talk-dr-david-scharia-pres-ret-dorit-beinisch-supreme-court-israel/
LOCATION:Snow Dining Room\, Vanderbilt Hall - 40 Washington Square South\, New York\, New York
END:VEVENT
END:VCALENDAR