BEGIN:VCALENDAR
VERSION:2.0
PRODID:-//Reiss Center on Law and Security - ECPv4.6.24.1//NONSGML v1.0//EN
CALSCALE:GREGORIAN
METHOD:PUBLISH
X-WR-CALNAME:Reiss Center on Law and Security
X-ORIGINAL-URL:https://www.lawandsecurity.org
X-WR-CALDESC:Events for Reiss Center on Law and Security
BEGIN:VEVENT
DTSTART;TZID=America/New_York:20251022T131000
DTEND;TZID=America/New_York:20251022T142500
DTSTAMP:20260424T040613
CREATED:20251001T152403Z
LAST-MODIFIED:20251022T210506Z
UID:16699-1761138600-1761143100@www.lawandsecurity.org
SUMMARY:All the President’s Power: What’s Left of Checks and Balances?
DESCRIPTION: \nAll The President’s Power: What’s Left of Checks and Balances? \nEvent Details:  \nWednesday\, October 22\, 2025 \n1:10–2:25 p.m. \n  \nWith a series of recent decisions\, the US Supreme Court has invested the president and executive branch with a level of power and autonomy unprecedented in American history.  From the scope of immunity granted in Trump v. United States to a collection of rulings—some final\, some provisional—on the president’s right to remove heads of independent agencies\, shutter entire operations\, decline to disburse congressionally approved funds\, and more\, one cannot help asking: Is the notion of checks and balances—so long a foundational premise of Con Law and civics classes—effectively a dead letter? Are there any meaningful constraints left on the ability of a president to do as he pleases?  At this Forum\, a panel of experts on presidential power attempted to provide answers. \nCo-hosted by the Reiss Center on Law and Security \nSpeakers\n\nBob Bauer: Professor of Practice and Distinguished Senior Fellow\, Reiss Center on Law and Security\, NYU Law; White House Counsel\, 2009–11\nGillian Metzger: Professor\, Columbia Law School; Acting Assistant Attorney General and Deputy Assistant Attorney General\, Office of Legal Counsel\, US Department of Justice\, 2023–24\nMichael W. McConnell: Visiting Professor of Law\, NYU Law; Professor and Director of Constitutional Law Center\, Stanford Law School; Judge\, US Court of Appeals for the Tenth Circuit\, 2002–09\nTrevor Morrison (Moderator): Professor\, Dean Emeritus\, and Faculty Co-Director\, Reiss Center on Law and Security\, NYU Law; Associate White House Counsel\, 2009\n\n
URL:https://www.lawandsecurity.org/calendar/all-the-presidents-power-whats-left-of-checks-and-balances/
ATTACH;FMTTYPE=image/jpeg:https://www.lawandsecurity.org/wp-content/uploads/2025/10/LSESFORM26.3_All-the-Presidents-Power-Esign_RELEASE-scaled.jpg
END:VEVENT
END:VCALENDAR