BEGIN:VCALENDAR
VERSION:2.0
PRODID:-//Reiss Center on Law and Security - ECPv4.6.24.1//NONSGML v1.0//EN
CALSCALE:GREGORIAN
METHOD:PUBLISH
X-WR-CALNAME:Reiss Center on Law and Security
X-ORIGINAL-URL:https://www.lawandsecurity.org
X-WR-CALDESC:Events for Reiss Center on Law and Security
BEGIN:VEVENT
DTSTART;TZID=America/New_York:20240404T130000
DTEND;TZID=America/New_York:20240404T140000
DTSTAMP:20260421T225314
CREATED:20240408T203312Z
LAST-MODIFIED:20251009T193951Z
UID:13902-1712235600-1712239200@www.lawandsecurity.org
SUMMARY:A Road Less Traveled: National Security Careers After Law School - Kelly Razzouk
DESCRIPTION: \nOn Thursday\, April 4\, 2024\, the Reiss Center on Law and Security and the National Security Law Society welcomed our fifth and final speaker of the 2023-2024 season of A Road Less Traveled: Kelly Razzouk\, Senior Director for Democracy and Human Rights\, National Security Council. Former: Acting Chief of Staff\, US Mission\nto the United Nations; Director of Policy and Advocacy\, International Rescue Committee. \nEvent Details\nApril 4\, 2024 \n1:00  – 2:00 p.m. \nFurman Hall \nRoom 110 \n \n
URL:https://www.lawandsecurity.org/calendar/a-road-less-traveled-national-security-careers-after-law-school-kelly-razzouk/
ATTACH;FMTTYPE=image/jpeg:https://www.lawandsecurity.org/wp-content/uploads/2024/04/KLR-Official-Photog-scaled.jpg
END:VEVENT
END:VCALENDAR