BEGIN:VCALENDAR
VERSION:2.0
PRODID:-//Reiss Center on Law and Security - ECPv4.6.24.1//NONSGML v1.0//EN
CALSCALE:GREGORIAN
METHOD:PUBLISH
X-WR-CALNAME:Reiss Center on Law and Security
X-ORIGINAL-URL:https://www.lawandsecurity.org
X-WR-CALDESC:Events for Reiss Center on Law and Security
BEGIN:VEVENT
DTSTART;TZID=America/New_York:20190125T100000
DTEND;TZID=America/New_York:20190125T113000
DTSTAMP:20260422T183212
CREATED:20190123T213022Z
LAST-MODIFIED:20200807T171707Z
UID:4252-1548410400-1548415800@www.lawandsecurity.org
SUMMARY:A Road Less Traveled: National Security Careers After Law School – Rachel Goldbrenner
DESCRIPTION: \n \nOn Friday\, January 23\, the Reiss Center on Law and Security and the National Security Law Society hosted Rachel Goldbrenner\, Executive Director of the Reiss Center on Law and Security for the inaugural session of a series with national security law and policy practitioners. Prior to heading the Reiss Center\, Goldbrenner served in a number of national security roles in the White House and State Department\, including as a senior advisor to U.S. Ambassador to the UN Samantha Power and as a director for multilateral affairs and human rights at the National Security Council. She has also practiced as an international litigator and served at several think tanks and advocacy organizations. \nIn her roundtable discussion with current NYU law students\, Goldbrenner discussed her career path both leading into and following law school. She discussed the challenges and rewards of government service and gave her advice for students interested in pursuing a career in national security. Turning to her current role\, she also provided an overview of the Reiss Center’s renewed agenda\, plans for the future\, and opportunities and resources for students interested in national security at NYU Law. You can read more about Goldbrenner’s bio on our website. \n\nView the full speaker lineup for the Spring 2019 series \n  \n
URL:https://www.lawandsecurity.org/calendar/a-career-conversation-with-rachel-goldbrenner/
ATTACH;FMTTYPE=image/jpeg:https://www.lawandsecurity.org/wp-content/uploads/2016/08/Rachel-Goldbrenner.jpg
END:VEVENT
END:VCALENDAR